BEGIN:VCALENDAR
VERSION:2.0
PRODID:-//Mahakavi Devkota Campus - ECPv6.0.3.1//NONSGML v1.0//EN
CALSCALE:GREGORIAN
METHOD:PUBLISH
X-WR-CALNAME:Mahakavi Devkota Campus
X-ORIGINAL-URL:https://www.mdc.edu.np
X-WR-CALDESC:Events for Mahakavi Devkota Campus
REFRESH-INTERVAL;VALUE=DURATION:PT1H
X-Robots-Tag:noindex
X-PUBLISHED-TTL:PT1H
BEGIN:VTIMEZONE
TZID:UTC
BEGIN:STANDARD
TZOFFSETFROM:+0000
TZOFFSETTO:+0000
TZNAME:UTC
DTSTART:20230101T000000
END:STANDARD
END:VTIMEZONE
BEGIN:VEVENT
DTSTART;TZID=UTC:20230507T063000
DTEND;TZID=UTC:20230511T093000
DTSTAMP:20260424T172744
CREATED:20230418T041550Z
LAST-MODIFIED:20230425T075524Z
UID:1730-1683441000-1683797400@www.mdc.edu.np
SUMMARY:BBS & B.Ed. 3rd Year Internal Examination
DESCRIPTION:
URL:https://www.mdc.edu.np/event/bbs-b-ed-3rd-year-internal-examination/
END:VEVENT
BEGIN:VEVENT
DTSTART;TZID=UTC:20230517T110000
DTEND;TZID=UTC:20230518T170000
DTSTAMP:20260424T172744
CREATED:20230517T142551Z
LAST-MODIFIED:20230517T143330Z
UID:1800-1684321200-1684429200@www.mdc.edu.np
SUMMARY:Workshop on Entrepreneurship Development
DESCRIPTION:
URL:https://www.mdc.edu.np/event/workshop-on-entrepreneurship-development/
LOCATION:Mahakavi Devkota Campus
ATTACH;FMTTYPE=image/jpeg:https://www.mdc.edu.np/wp-content/uploads/2023/05/347620185_780603540333721_6422991527393294118_n-scaled.jpg
ORGANIZER;CN="MDC":MAILTO:mdcampus60@gmail.com
END:VEVENT
BEGIN:VEVENT
DTSTART;TZID=UTC:20230525T110000
DTEND;TZID=UTC:20230526T150000
DTSTAMP:20260424T172744
CREATED:20230526T090438Z
LAST-MODIFIED:20230526T090457Z
UID:1833-1685012400-1685113200@www.mdc.edu.np
SUMMARY:Practical Accounting and Taxation Training
DESCRIPTION:for BBA 5th Semester
URL:https://www.mdc.edu.np/event/practical-accounting-and-taxation-training/
ATTACH;FMTTYPE=image/png:https://www.mdc.edu.np/wp-content/uploads/2023/05/Practical-accounting-and-taxation-bba.png
END:VEVENT
BEGIN:VEVENT
DTSTART;TZID=UTC:20230526T080000
DTEND;TZID=UTC:20230526T170000
DTSTAMP:20260424T172744
CREATED:20230526T091049Z
LAST-MODIFIED:20230526T091049Z
UID:1837-1685088000-1685120400@www.mdc.edu.np
SUMMARY:Basic Share Market and Banking Training (Financial Literacy Program)
DESCRIPTION:for BBS & B.Ed. 1st Year
URL:https://www.mdc.edu.np/event/basic-share-market-and-banking-training-financial-literacy-program/
ATTACH;FMTTYPE=image/png:https://www.mdc.edu.np/wp-content/uploads/2023/05/Arjun-gyawali.png
END:VEVENT
BEGIN:VEVENT
DTSTART;TZID=UTC:20230526T113000
DTEND;TZID=UTC:20230526T143000
DTSTAMP:20260424T172744
CREATED:20230521T082313Z
LAST-MODIFIED:20230521T082313Z
UID:1819-1685100600-1685111400@www.mdc.edu.np
SUMMARY:BICTE 1st Semester Pre-Board Exam
DESCRIPTION:
URL:https://www.mdc.edu.np/event/bicte-1st-semester-pre-board-exam-6/
END:VEVENT
BEGIN:VEVENT
DTSTART;TZID=UTC:20230528T113000
DTEND;TZID=UTC:20230528T143000
DTSTAMP:20260424T172744
CREATED:20230517T143557Z
LAST-MODIFIED:20230517T144013Z
UID:1806-1685273400-1685284200@www.mdc.edu.np
SUMMARY:BICTE 1st Semester Pre-Board Exam
DESCRIPTION:
URL:https://www.mdc.edu.np/event/bicte-1st-semester-pre-board-exam/
END:VEVENT
BEGIN:VEVENT
DTSTART;TZID=UTC:20230530T113000
DTEND;TZID=UTC:20230530T143000
DTSTAMP:20260424T172744
CREATED:20230517T143708Z
LAST-MODIFIED:20230517T143708Z
UID:1808-1685446200-1685457000@www.mdc.edu.np
SUMMARY:BICTE 1st Semester Pre-Board Exam
DESCRIPTION:
URL:https://www.mdc.edu.np/event/bicte-1st-semester-pre-board-exam-2/
END:VEVENT
BEGIN:VEVENT
DTSTART;TZID=UTC:20230531T113000
DTEND;TZID=UTC:20230531T143000
DTSTAMP:20260424T172744
CREATED:20230517T143745Z
LAST-MODIFIED:20230517T143745Z
UID:1810-1685532600-1685543400@www.mdc.edu.np
SUMMARY:BICTE 1st Semester Pre-Board Exam
DESCRIPTION:
URL:https://www.mdc.edu.np/event/bicte-1st-semester-pre-board-exam-3/
END:VEVENT
END:VCALENDAR